BEGIN:VCALENDAR
VERSION:2.0
PRODID:-//Casa Museo Unamuno - ECPv6.13.1//NONSGML v1.0//EN
CALSCALE:GREGORIAN
METHOD:PUBLISH
X-WR-CALNAME:Casa Museo Unamuno
X-ORIGINAL-URL:https://unamuno.usal.es
X-WR-CALDESC:Eventos para Casa Museo Unamuno
REFRESH-INTERVAL;VALUE=DURATION:PT1H
X-Robots-Tag:noindex
X-PUBLISHED-TTL:PT1H
BEGIN:VTIMEZONE
TZID:Europe/Madrid
BEGIN:DAYLIGHT
TZOFFSETFROM:+0100
TZOFFSETTO:+0200
TZNAME:CEST
DTSTART:20260329T010000
END:DAYLIGHT
BEGIN:STANDARD
TZOFFSETFROM:+0200
TZOFFSETTO:+0100
TZNAME:CET
DTSTART:20261025T010000
END:STANDARD
END:VTIMEZONE
BEGIN:VEVENT
DTSTART;TZID=Europe/Madrid:20260212T193000
DTEND;TZID=Europe/Madrid:20260212T210000
DTSTAMP:20260423T094831
CREATED:20260209T092805Z
LAST-MODIFIED:20260209T092805Z
UID:12531-1770924600-1770930000@unamuno.usal.es
SUMMARY:Miguel de Unamuno y Luigi Pirandello: vidas y obras paralelas
DESCRIPTION:Miguel de Unamuno y Luigi Pirandello: vidas y obras paralelas\nEl 12 de febrero a las 19:30 horas en el Salón Rectoral de la Casa-Museo Unamuno tendrá lugar la conferencia «Miguel de Unamuno y Luigi Pirandello: vidas y obras paralelas» organizada por la Asociación Amigos de Unamuno. La conferencia será impartida por Vicente González Martín\, catedrático emérito de la Universidad de Salamanca y presentada por el Presidente de Honor de la Asociación Francisco Blanco Prieto. \nLa entrada será libre hasta completar el aforo.
URL:https://unamuno.usal.es/evento/miguel-de-unamuno-y-luigi-pirandello-vidas-y-obras-paralelas/
LOCATION:Casa Museo Unamuno\, Calle Libreros\, 25\, Salamanca\, CA
CATEGORIES:Conferencia
ATTACH;FMTTYPE=image/jpeg:https://unamuno.usal.es/wp-content/uploads/2026/02/cartel_amigos_unamuno.jpg
ORGANIZER;CN="Casa Museo Unamuno":MAILTO:unamuno@usal.es
END:VEVENT
BEGIN:VEVENT
DTSTART;VALUE=DATE:20260219
DTEND;VALUE=DATE:20260306
DTSTAMP:20260423T094831
CREATED:20260209T124323Z
LAST-MODIFIED:20260306T075049Z
UID:12537-1771459200-1772755199@unamuno.usal.es
SUMMARY:A vueltas con el autor: cuatro personajes en busca de Unamuno
DESCRIPTION:A vueltas con el autor: cuatro personajes en busca de Unamuno\nEl Centro de Formación del Profesorado e Innovación Educativa (CFIE) de Salamanca\, en colaboración con la Casa-Museo Unamuno\, organiza cuatro interesantes conferencias en torno a la figura de Miguel de Unamuno. Las conferencias tendrán lugar en el Salón Rectoral de la Casa-Museo Unamuno los días que se indican a continuación a las 17 horas. La entrada será libre hasta completar el aforo. \nEl programa de esta actividad es: \n\nJueves 19 de febrero: «Miguel de Unamuno perseguido por Franco. ¿Muerte natural o crimen de estado? con Carlos Sá Mayoral.\nLunes 23 de febrero: «Unamuno personaje nivolesco» con Luis M. García Jambrina.\nJueves  26 de febrero: «Dios creó el mundo para hacerse célebre: Unamuno y la fama» con Enrique Santos Unamuno.\nJueves 5 de marzo: «Unamuno exiliado en Francia (1925-1930)» con Colette y Jean-Claude Rabaté.
URL:https://unamuno.usal.es/evento/a-vueltas-con-el-autor-cuatro-personajes-en-busca-de-unamuno/
LOCATION:Casa Museo Unamuno\, Calle Libreros\, 25\, Salamanca\, CA
CATEGORIES:Conferencia
ATTACH;FMTTYPE=image/jpeg:https://unamuno.usal.es/wp-content/uploads/2026/02/A-vueltas-con-el-autor.-Cuatro-personajes-en-busca-de-Unamuno.jpg
ORGANIZER;CN="Casa Museo Unamuno":MAILTO:unamuno@usal.es
END:VEVENT
END:VCALENDAR