BEGIN:VCALENDAR
VERSION:2.0
PRODID:-//Casa Museo Unamuno - ECPv6.13.1//NONSGML v1.0//EN
CALSCALE:GREGORIAN
METHOD:PUBLISH
X-WR-CALNAME:Casa Museo Unamuno
X-ORIGINAL-URL:https://unamuno.usal.es
X-WR-CALDESC:Eventos para Casa Museo Unamuno
REFRESH-INTERVAL;VALUE=DURATION:PT1H
X-Robots-Tag:noindex
X-PUBLISHED-TTL:PT1H
BEGIN:VTIMEZONE
TZID:Europe/Madrid
BEGIN:DAYLIGHT
TZOFFSETFROM:+0100
TZOFFSETTO:+0200
TZNAME:CEST
DTSTART:20260329T010000
END:DAYLIGHT
BEGIN:STANDARD
TZOFFSETFROM:+0200
TZOFFSETTO:+0100
TZNAME:CET
DTSTART:20261025T010000
END:STANDARD
END:VTIMEZONE
BEGIN:VEVENT
DTSTART;TZID=Europe/Madrid:20260325T190000
DTEND;TZID=Europe/Madrid:20260325T203000
DTSTAMP:20260423T073422
CREATED:20260324T074134Z
LAST-MODIFIED:20260325T081714Z
UID:13045-1774465200-1774470600@unamuno.usal.es
SUMMARY:Miguel de Unamuno y la ciencia. La cuestión palpitante.
DESCRIPTION:Miguel de Unamuno y la ciencia. La cuestión palpitante.\nLa Unidad de Cultura Científica y de la Innovación de la Universidad de Salamanca\, con motivo de la inauguración de la exposición «¡Qué inventen ellos! Miguel de Unamuno y la ciencia» organiza la charla «Miguel de Unamuno y la ciencia. La cuestión palpitante.» impartida por Rafael Chabrán (Whittier College). \nLugar: Aula Unamuno del Edificio de Escuelas Mayores de la USAL. \nFecha y hora: el miércoles 25 de marzo a las 19:00 horas. \nEntrada libre hasta completar aforo. \n 
URL:https://unamuno.usal.es/evento/miguel-unamuno-ciencia-cuestion-palpitante/
LOCATION:Aula Miguel de Unamuno\, Calle Libreros 19\, Salamanca\, Salamanca\, 37008\, España
CATEGORIES:Charlas,Exposiciones
ATTACH;FMTTYPE=image/jpeg:https://unamuno.usal.es/wp-content/uploads/2026/03/unamuno_ciencia_cuestion_palpitante.jpe
END:VEVENT
END:VCALENDAR