BEGIN:VCALENDAR
VERSION:2.0
PRODID:-//Casa Museo Unamuno - ECPv6.13.1//NONSGML v1.0//EN
CALSCALE:GREGORIAN
METHOD:PUBLISH
X-WR-CALNAME:Casa Museo Unamuno
X-ORIGINAL-URL:https://unamuno.usal.es
X-WR-CALDESC:Eventos para Casa Museo Unamuno
REFRESH-INTERVAL;VALUE=DURATION:PT1H
X-Robots-Tag:noindex
X-PUBLISHED-TTL:PT1H
BEGIN:VTIMEZONE
TZID:Europe/Madrid
BEGIN:DAYLIGHT
TZOFFSETFROM:+0100
TZOFFSETTO:+0200
TZNAME:CEST
DTSTART:20260329T010000
END:DAYLIGHT
BEGIN:STANDARD
TZOFFSETFROM:+0200
TZOFFSETTO:+0100
TZNAME:CET
DTSTART:20261025T010000
END:STANDARD
END:VTIMEZONE
BEGIN:VEVENT
DTSTART;TZID=Europe/Madrid:20260313T190000
DTEND;TZID=Europe/Madrid:20260313T210000
DTSTAMP:20260423T094251
CREATED:20260302T120559Z
LAST-MODIFIED:20260302T120559Z
UID:12676-1773428400-1773435600@unamuno.usal.es
SUMMARY:Ernestina González un pulso antifranquista
DESCRIPTION:Presentación del libro de Ana María Díaz Marcos «Ernestina González\, un pulso antifranquista»\nLa Casa-Museo Unamuno\, el Centro Documental de la Memoría Histórica y Ediciones Renacimiento presentan el libro de Ana María Díaz Marcos «Ernestina González\, un pulso antifranquista». \nLa presentación tendrá lugar el viernes 13 de marzo de 2026\, a las 19 horas en el Centro Documental de la Memoria Histórica. Será presentado por Severiano Hernández Vicente\, del Centro Documental de la Memoria Histórica y contará con la participación de la autora\, Ana María Díaz Marcos\, de Ana Chaguaceda Toledano de la Casa-Museo Unamuno y de la profesora de la Universidad de Salamanca Maribel R. Fidalgo.
URL:https://unamuno.usal.es/evento/ernestina-gonzalez-un-pulso-antifranquista/
LOCATION:Centro Documental de la Memoria Histórica\, Plaza de los Bandos\, Salamanca\, Salamanca\, 37002\, Spain
CATEGORIES:Presentaciones,Publicaciones
ATTACH;FMTTYPE=image/jpeg:https://unamuno.usal.es/wp-content/uploads/2026/02/INVITACION_ERNESTINA_GONZALEZ_SALAMANCA.jpg
ORGANIZER;CN="Casa Museo Unamuno":MAILTO:unamuno@usal.es
END:VEVENT
END:VCALENDAR