BEGIN:VCALENDAR
VERSION:2.0
PRODID:-//Casa Museo Unamuno - ECPv6.13.1//NONSGML v1.0//EN
CALSCALE:GREGORIAN
METHOD:PUBLISH
X-WR-CALNAME:Casa Museo Unamuno
X-ORIGINAL-URL:https://unamuno.usal.es
X-WR-CALDESC:Eventos para Casa Museo Unamuno
REFRESH-INTERVAL;VALUE=DURATION:PT1H
X-Robots-Tag:noindex
X-PUBLISHED-TTL:PT1H
BEGIN:VTIMEZONE
TZID:Europe/Madrid
BEGIN:DAYLIGHT
TZOFFSETFROM:+0100
TZOFFSETTO:+0200
TZNAME:CEST
DTSTART:20260329T010000
END:DAYLIGHT
BEGIN:STANDARD
TZOFFSETFROM:+0200
TZOFFSETTO:+0100
TZNAME:CET
DTSTART:20261025T010000
END:STANDARD
END:VTIMEZONE
BEGIN:VEVENT
DTSTART;TZID=Europe/Madrid:20260312T183000
DTEND;TZID=Europe/Madrid:20260312T200000
DTSTAMP:20260423T111031
CREATED:20260218T092434Z
LAST-MODIFIED:20260302T120438Z
UID:12653-1773340200-1773345600@unamuno.usal.es
SUMMARY:María de Unamuno en EEUU: cartas\, redes y legado familiar
DESCRIPTION:María de Unamuno en EEUU: cartas\, redes y legado familiar\nEl 12 de marzo de 2026 a las 18:30 horas en el Salón Rectoral de la Casa-Museo Unamuno tendrá lugar la conferencia y coloquio «María de Unamuno en EEUU: cartas\, redes y legado familiar». El acto será presentado por la directora de la Casa-Museo Unamuno Ana Chaguaceda\, se trata de una conferencia impartida por Ana María Díaz Marcos de la Universidad de Connecticut a la que seguirá un coloquio moderado por las profesoras de la Universidad de Salamanca Maribel R. Fidalgo y Adriana Paíno. \nLa entrada será libre hasta completar aforo.
URL:https://unamuno.usal.es/evento/maria-de-unamuno-en-eeuu/
LOCATION:Casa Museo Unamuno\, Calle Libreros\, 25\, Salamanca\, CA
CATEGORIES:Coloquio,Conferencia
ATTACH;FMTTYPE=image/jpeg:https://unamuno.usal.es/wp-content/uploads/2026/02/COLOQUIO-MARIA-DE-UNAMUNO-12-03-26.jpg
ORGANIZER;CN="Casa Museo Unamuno":MAILTO:unamuno@usal.es
END:VEVENT
END:VCALENDAR