BEGIN:VCALENDAR
VERSION:2.0
PRODID:-//Casa Museo Unamuno - ECPv6.13.1//NONSGML v1.0//EN
CALSCALE:GREGORIAN
METHOD:PUBLISH
X-WR-CALNAME:Casa Museo Unamuno
X-ORIGINAL-URL:https://unamuno.usal.es
X-WR-CALDESC:Eventos para Casa Museo Unamuno
REFRESH-INTERVAL;VALUE=DURATION:PT1H
X-Robots-Tag:noindex
X-PUBLISHED-TTL:PT1H
BEGIN:VTIMEZONE
TZID:Europe/Madrid
BEGIN:DAYLIGHT
TZOFFSETFROM:+0100
TZOFFSETTO:+0200
TZNAME:CEST
DTSTART:20260329T010000
END:DAYLIGHT
BEGIN:STANDARD
TZOFFSETFROM:+0200
TZOFFSETTO:+0100
TZNAME:CET
DTSTART:20261025T010000
END:STANDARD
END:VTIMEZONE
BEGIN:VEVENT
DTSTART;TZID=Europe/Madrid:20260119T193000
DTEND;TZID=Europe/Madrid:20260119T210000
DTSTAMP:20260424T182627
CREATED:20260113T124601Z
LAST-MODIFIED:20260120T070035Z
UID:12386-1768851000-1768856400@unamuno.usal.es
SUMMARY:Diálogo con José María Pérez "Peridis"
DESCRIPTION:Diálogo con José María Pérez «Peridis»\nEl lunes 19 de enero a las 19:30 horas en el Paraninfo del Edificio de Escuelas Mayores José María Pérez «Peridis» presentará su libro «El tesoro del convento caído.». \n«Peridis» es reconocido como arquitecto\, humorista\, decano entre los colaboradores de El País\, divulgador del patrimonio\, creador de la Fundación Santa María\, director de la Enciclopedia del Románico e impulsor de proyectos de creación de empleo. \nAcompañarán a «Peridis» en la presentación Pablo de Unamuno Pérez y Eduardo Fabián Caparrós. \nLa entrada será libre hasta completar el aforo y al finalizar se podrá comprar el libro «El tesoro del convento caído.».
URL:https://unamuno.usal.es/evento/dialogo-con-jose-maria-perez-peridis/
LOCATION:Aula Miguel de Unamuno\, Calle Libreros 19\, Salamanca\, Salamanca\, 37008\, España
CATEGORIES:Presentaciones
ATTACH;FMTTYPE=image/jpeg:https://unamuno.usal.es/wp-content/uploads/2026/01/cartel-peridis-copia.jpg
ORGANIZER;CN="Casa Museo Unamuno":MAILTO:unamuno@usal.es
END:VEVENT
END:VCALENDAR