BEGIN:VCALENDAR
VERSION:2.0
PRODID:-//Casa Museo Unamuno - ECPv6.13.1//NONSGML v1.0//EN
CALSCALE:GREGORIAN
METHOD:PUBLISH
X-WR-CALNAME:Casa Museo Unamuno
X-ORIGINAL-URL:https://unamuno.usal.es
X-WR-CALDESC:Eventos para Casa Museo Unamuno
REFRESH-INTERVAL;VALUE=DURATION:PT1H
X-Robots-Tag:noindex
X-PUBLISHED-TTL:PT1H
BEGIN:VTIMEZONE
TZID:Europe/Madrid
BEGIN:DAYLIGHT
TZOFFSETFROM:+0100
TZOFFSETTO:+0200
TZNAME:CEST
DTSTART:20260329T010000
END:DAYLIGHT
BEGIN:STANDARD
TZOFFSETFROM:+0200
TZOFFSETTO:+0100
TZNAME:CET
DTSTART:20261025T010000
END:STANDARD
END:VTIMEZONE
BEGIN:VEVENT
DTSTART;TZID=Europe/Madrid:20260113T190000
DTEND;TZID=Europe/Madrid:20260113T203000
DTSTAMP:20260424T162952
CREATED:20260108T111933Z
LAST-MODIFIED:20260108T120525Z
UID:12377-1768330800-1768336200@unamuno.usal.es
SUMMARY:Presentación del libro "Unamuno internacional. Un estudio de su red europea"
DESCRIPTION:Unamuno internacional. Un estudio de su red europea\nPresentación del libro «Unamuno internacional. Un estudio de su red europea». En el acto estará la autora del libro Cristina Erquiaga Martínez acompañada por los profesores de la USAL Mariano Esteban de Vega y María Martín Gómez. \nLa obra ofrece un estudio de la correspondencia que mantuvo con otros intelectuales europeos custodiada en la Casa-Museo Unamuno. El análisis de estas redes de correspondencia ha permitido a la autora reconstruir los vínculos de Unamuno con Europa\, así como la trama de interconexiones en la que se enmarcan. «Unamuno internacional. Un estudio de su red europea» sitúa a Miguel de Unamuno en el amplio contexto en el que se desarrollaron su vida y su obra\, mostrándole como el intelectual internacional que fue. \n¡Os esperamos!
URL:https://unamuno.usal.es/evento/presentacion-del-libro-unamuno-internacional-un-estudio-de-su-red-europea/
LOCATION:Casa Museo Unamuno\, Calle Libreros\, 25\, Salamanca\, CA
CATEGORIES:Presentaciones
ATTACH;FMTTYPE=image/jpeg:https://unamuno.usal.es/wp-content/uploads/2026/01/cartel-Unamuno-Internacional-copia.jpg
ORGANIZER;CN="Casa Museo Unamuno":MAILTO:unamuno@usal.es
END:VEVENT
END:VCALENDAR