BEGIN:VCALENDAR
VERSION:2.0
PRODID:-//Casa Museo Unamuno - ECPv6.13.1//NONSGML v1.0//EN
CALSCALE:GREGORIAN
METHOD:PUBLISH
X-WR-CALNAME:Casa Museo Unamuno
X-ORIGINAL-URL:https://unamuno.usal.es
X-WR-CALDESC:Eventos para Casa Museo Unamuno
REFRESH-INTERVAL;VALUE=DURATION:PT1H
X-Robots-Tag:noindex
X-PUBLISHED-TTL:PT1H
BEGIN:VTIMEZONE
TZID:Europe/Madrid
BEGIN:DAYLIGHT
TZOFFSETFROM:+0100
TZOFFSETTO:+0200
TZNAME:CEST
DTSTART:20250330T010000
END:DAYLIGHT
BEGIN:STANDARD
TZOFFSETFROM:+0200
TZOFFSETTO:+0100
TZNAME:CET
DTSTART:20251026T010000
END:STANDARD
BEGIN:DAYLIGHT
TZOFFSETFROM:+0100
TZOFFSETTO:+0200
TZNAME:CEST
DTSTART:20260329T010000
END:DAYLIGHT
BEGIN:STANDARD
TZOFFSETFROM:+0200
TZOFFSETTO:+0100
TZNAME:CET
DTSTART:20261025T010000
END:STANDARD
END:VTIMEZONE
BEGIN:VEVENT
DTSTART;VALUE=DATE:20251223
DTEND;VALUE=DATE:20260111
DTSTAMP:20260425T014247
CREATED:20251209T065729Z
LAST-MODIFIED:20251221T111810Z
UID:11834-1766448000-1768089599@unamuno.usal.es
SUMMARY:Navidad en la Casa-Museo Unamuno
DESCRIPTION:Visitas en Navidad a la Casa-Museo Unamuno\nLa Casa-Museo Unamuno estará cerrada los días 24\, 25 y 31 de diciembre y los días 1 y 6 de enero. \nEl resto de las vacaciones de Navidad se podrá visitar en su horario habitual de lunes a sábado\, entradas a las 10:00\, 11:00\, 12:00 y 13:00 horas. Las entradas se compran en el Edificio de Escuelas Mayores de la USAL. \nAl coincidir con la exposición «De Nueva York a Puerto Rico: transmitiendo el patrimonio cultural inmaterial hispano con Federico de Onís» que ocupa el Salón Rectoral la visita tendrá una adaptación en los espacios que estén ocupados por esta exposición. \nMás información sobre los horarios en este enlace. \n«Agranda la puerta\, padre\,\nporque no puedo pasar\,\nla hiciste para los niños\nyo he crecido\, a mi pesar.\nSi no me agrandas la puerta\nachícame\, por piedad\,\nvuélveme a la edad bendita\nen que vivir es soñar.»\nMiguel de Unamuno (1928)
URL:https://unamuno.usal.es/evento/navidad-en-la-casa-museo-unamuno/
LOCATION:Casa Museo Unamuno\, Calle Libreros\, 25\, Salamanca\, CA
CATEGORIES:Visitas
ATTACH;FMTTYPE=image/jpeg:https://unamuno.usal.es/wp-content/uploads/2025/11/La-Estampa-de-CyL-e1762330109298.jpg
ORGANIZER;CN="Casa Museo Unamuno":MAILTO:unamuno@usal.es
END:VEVENT
END:VCALENDAR