BEGIN:VCALENDAR
VERSION:2.0
PRODID:-//Casa Museo Unamuno - ECPv6.13.1//NONSGML v1.0//EN
CALSCALE:GREGORIAN
METHOD:PUBLISH
X-WR-CALNAME:Casa Museo Unamuno
X-ORIGINAL-URL:https://unamuno.usal.es
X-WR-CALDESC:Eventos para Casa Museo Unamuno
REFRESH-INTERVAL;VALUE=DURATION:PT1H
X-Robots-Tag:noindex
X-PUBLISHED-TTL:PT1H
BEGIN:VTIMEZONE
TZID:Europe/Madrid
BEGIN:DAYLIGHT
TZOFFSETFROM:+0100
TZOFFSETTO:+0200
TZNAME:CEST
DTSTART:20250330T010000
END:DAYLIGHT
BEGIN:STANDARD
TZOFFSETFROM:+0200
TZOFFSETTO:+0100
TZNAME:CET
DTSTART:20251026T010000
END:STANDARD
END:VTIMEZONE
BEGIN:VEVENT
DTSTART;VALUE=DATE:20251025
DTEND;VALUE=DATE:20251221
DTSTAMP:20260424T101150
CREATED:20251023T085651Z
LAST-MODIFIED:20260120T070324Z
UID:11821-1761350400-1766275199@unamuno.usal.es
SUMMARY:"Las Llaves de la Ciudad" en la Casa-Museo Unamuno
DESCRIPTION:Las Llaves de la Ciudad en la Casa-Museo Unamuno\nLa Casa-Museo Unamuno se une al programa del Ayuntamiento de Salamanca «Las Llaves de la Ciudad» en su edición de 2025. Las visitas serán guiadas y tendrán lugar desde el 25 de octubre al 20 de diciembre de 2025 los sábados y miércoles a las 13 horas\, excepto el día 1 de noviembre que no se podrá visitar la Casa-Museo Unamuno. La entrada será con invitación que se puede conseguir en la web https://salamancaymas.es/las-llaves-de-la-ciudad/.
URL:https://unamuno.usal.es/evento/llaves_ciudad/
LOCATION:Casa Museo Unamuno\, Calle Libreros\, 25\, Salamanca\, CA
CATEGORIES:Visitas
ATTACH;FMTTYPE=image/jpeg:https://unamuno.usal.es/wp-content/uploads/2025/10/llaves_ciudad_unamuno.jpg
ORGANIZER;CN="Casa Museo Unamuno":MAILTO:unamuno@usal.es
END:VEVENT
BEGIN:VEVENT
DTSTART;VALUE=DATE:20251112
DTEND;VALUE=DATE:20251120
DTSTAMP:20260424T101150
CREATED:20251104T152624Z
LAST-MODIFIED:20251121T124733Z
UID:11850-1762905600-1763596799@unamuno.usal.es
SUMMARY:Semana de la Ciencia en la Casa-Museo Unamuno
DESCRIPTION:Semana de la Ciencia 2025: Visita la Casa-Museo Unamuno y déjate llevar por las Voces Femeninas de su Correspondencia.\nLa Unidad de Cultura Científica y de la Innovación organiza del 10 al 22 de noviembre de 2025 la Semana de la Ciencia. La Casa-Museo Unamuno y el Departamento de Sociología y Comunicación participan en su programación con «Visita la Casa-Museo Unamuno y déjate llevar por las Voces Femeninas de su Correspondencia». Esta actividad tendrá lugar el 12 y el 19 de noviembre a las 17:10 horas y a las 19 horas en la Casa-Museo Unamuno. \nInformación e inscripción en https://culturacientifica.usal.es/semana-de-la-ciencia-2025/. \n¡Os esperamos!
URL:https://unamuno.usal.es/evento/semana-de-la-ciencia-en-la-casa-museo-unamuno/
LOCATION:Casa Museo Unamuno\, Calle Libreros\, 25\, Salamanca\, CA
CATEGORIES:Charlas,Visitas
ATTACH;FMTTYPE=image/jpeg:https://unamuno.usal.es/wp-content/uploads/2025/11/WEB-SEMANA-DE-LA-CIENCIA-e1762272422604.jpg
ORGANIZER;CN="Casa Museo Unamuno":MAILTO:unamuno@usal.es
END:VEVENT
END:VCALENDAR