BEGIN:VCALENDAR
VERSION:2.0
PRODID:-//Casa Museo Unamuno - ECPv6.13.1//NONSGML v1.0//EN
CALSCALE:GREGORIAN
METHOD:PUBLISH
X-WR-CALNAME:Casa Museo Unamuno
X-ORIGINAL-URL:https://unamuno.usal.es
X-WR-CALDESC:Eventos para Casa Museo Unamuno
REFRESH-INTERVAL;VALUE=DURATION:PT1H
X-Robots-Tag:noindex
X-PUBLISHED-TTL:PT1H
BEGIN:VTIMEZONE
TZID:Europe/Madrid
BEGIN:DAYLIGHT
TZOFFSETFROM:+0100
TZOFFSETTO:+0200
TZNAME:CEST
DTSTART:20250330T010000
END:DAYLIGHT
BEGIN:STANDARD
TZOFFSETFROM:+0200
TZOFFSETTO:+0100
TZNAME:CET
DTSTART:20251026T010000
END:STANDARD
END:VTIMEZONE
BEGIN:VEVENT
DTSTART;VALUE=DATE:20251003
DTEND;VALUE=DATE:20251004
DTSTAMP:20260425T034148
CREATED:20251002T064024Z
LAST-MODIFIED:20251020T084235Z
UID:11590-1759449600-1759535999@unamuno.usal.es
SUMMARY:La Casa-Museo Unamuno no se podrá visitar el 3 de octubre por la celebración de un acto académico.
DESCRIPTION:El 3 de octubre de 2025 no se podrá visitar la Casa-Museo Unamuno por la celebración de un acto académico. \nDisculpen las molestias.
URL:https://unamuno.usal.es/evento/casa-museo-unamuno-cerrada/
LOCATION:Casa Museo Unamuno\, Calle Libreros\, 25\, Salamanca\, CA
CATEGORIES:Visitas
ATTACH;FMTTYPE=image/jpeg:https://unamuno.usal.es/wp-content/uploads/2025/07/LFL2073.jpg
ORGANIZER;CN="Casa Museo Unamuno":MAILTO:unamuno@usal.es
END:VEVENT
END:VCALENDAR