BEGIN:VCALENDAR
VERSION:2.0
PRODID:-//Casa Museo Unamuno - ECPv6.13.1//NONSGML v1.0//EN
CALSCALE:GREGORIAN
METHOD:PUBLISH
X-WR-CALNAME:Casa Museo Unamuno
X-ORIGINAL-URL:https://unamuno.usal.es
X-WR-CALDESC:Eventos para Casa Museo Unamuno
REFRESH-INTERVAL;VALUE=DURATION:PT1H
X-Robots-Tag:noindex
X-PUBLISHED-TTL:PT1H
BEGIN:VTIMEZONE
TZID:Europe/Madrid
BEGIN:DAYLIGHT
TZOFFSETFROM:+0100
TZOFFSETTO:+0200
TZNAME:CEST
DTSTART:20250330T010000
END:DAYLIGHT
BEGIN:STANDARD
TZOFFSETFROM:+0200
TZOFFSETTO:+0100
TZNAME:CET
DTSTART:20251026T010000
END:STANDARD
END:VTIMEZONE
BEGIN:VEVENT
DTSTART;TZID=Europe/Madrid:20250929T131500
DTEND;TZID=Europe/Madrid:20250929T140000
DTSTAMP:20260424T204351
CREATED:20250912T111109Z
LAST-MODIFIED:20251002T113139Z
UID:10870-1759151700-1759154400@unamuno.usal.es
SUMMARY:Día de Unamuno 2025
DESCRIPTION:El 29 de septiembre de 2025 la Casa-Museo Unamuno\, en colaboración con la Asociación de Amigos de Unamuno y la Facultad de Filología celebra el Día de Unamuno en conmemoración de su nacimiento. El acto consistirá en: \n\nHomenaje floral ante el busto de Unamuno\, obra de Victorio Macho\, situado en la escalinata del Palacio de Anaya el 29 de septiembre de 1934 con motivo de los actos de homenaje por la jubilación del escritor como profesor de la Universidad de Salamanca. La ofrenda floral la hará Mercedes Santos Unamuno\, bisnieta del escritor.\nConferencia «Unamuno\, años 30» por Antonio Heredia Solano.
URL:https://unamuno.usal.es/evento/dia-unamuno-2025/
LOCATION:Palacio de Anaya\, Plaza de Anaya\, Salamanca\, Salamanca\, 37008\, Spain
CATEGORIES:Día de Unamuno
ATTACH;FMTTYPE=image/jpeg:https://unamuno.usal.es/wp-content/uploads/2025/09/escultura_victorio_macho.jpg
ORGANIZER;CN="Casa Museo Unamuno":MAILTO:unamuno@usal.es
END:VEVENT
END:VCALENDAR