BEGIN:VCALENDAR
VERSION:2.0
PRODID:-//Casa Museo Unamuno - ECPv6.13.1//NONSGML v1.0//EN
CALSCALE:GREGORIAN
METHOD:PUBLISH
X-WR-CALNAME:Casa Museo Unamuno
X-ORIGINAL-URL:https://unamuno.usal.es
X-WR-CALDESC:Eventos para Casa Museo Unamuno
REFRESH-INTERVAL;VALUE=DURATION:PT1H
X-Robots-Tag:noindex
X-PUBLISHED-TTL:PT1H
BEGIN:VTIMEZONE
TZID:Europe/Madrid
BEGIN:DAYLIGHT
TZOFFSETFROM:+0100
TZOFFSETTO:+0200
TZNAME:CEST
DTSTART:20250330T010000
END:DAYLIGHT
BEGIN:STANDARD
TZOFFSETFROM:+0200
TZOFFSETTO:+0100
TZNAME:CET
DTSTART:20251026T010000
END:STANDARD
END:VTIMEZONE
BEGIN:VEVENT
DTSTART;TZID=Europe/Madrid:20250526T110000
DTEND;TZID=Europe/Madrid:20250915T120000
DTSTAMP:20260425T143504
CREATED:20250528T100112Z
LAST-MODIFIED:20251002T111717Z
UID:8998-1748257200-1757937600@unamuno.usal.es
SUMMARY:Las pajaritas de mi abuelo
DESCRIPTION:Acompañadnos el lunes 26 a las 12:00. \nPablo de Unamuno nos explicará todo con detalle. \nSi no podéis\, recordad que hasta el 15 de septiembre la exposición estará abierta y se podrá visitar gratuitamente de martes a viernes y de 11:00 a 12:00\, con el acompañamiento de nuestros guías Jorge y Néstor. \nVISITAS GUIADAS Y GRATUITAS A LA EXPOSICIÓN
URL:https://unamuno.usal.es/evento/las-pajaritas-de-mi-abuelo/
LOCATION:Salamanca
CATEGORIES:Exposiciones
ATTACH;FMTTYPE=image/webp:https://unamuno.usal.es/wp-content/uploads/2025/05/laspajaritasdemiabuelo.webp
ORGANIZER;CN="Casa Museo Unamuno":MAILTO:unamuno@usal.es
END:VEVENT
END:VCALENDAR